BEGIN:VCALENDAR
VERSION:2.0
PRODID:-//Canadian Handywoman - ECPv6.15.20//NONSGML v1.0//EN
CALSCALE:GREGORIAN
METHOD:PUBLISH
X-WR-CALNAME:Canadian Handywoman
X-ORIGINAL-URL:https://canadianhandywoman.com
X-WR-CALDESC:Events for Canadian Handywoman
REFRESH-INTERVAL;VALUE=DURATION:PT1H
X-Robots-Tag:noindex
X-PUBLISHED-TTL:PT1H
BEGIN:VTIMEZONE
TZID:America/Toronto
BEGIN:DAYLIGHT
TZOFFSETFROM:-0500
TZOFFSETTO:-0400
TZNAME:EDT
DTSTART:20240310T070000
END:DAYLIGHT
BEGIN:STANDARD
TZOFFSETFROM:-0400
TZOFFSETTO:-0500
TZNAME:EST
DTSTART:20241103T060000
END:STANDARD
BEGIN:DAYLIGHT
TZOFFSETFROM:-0500
TZOFFSETTO:-0400
TZNAME:EDT
DTSTART:20250309T070000
END:DAYLIGHT
BEGIN:STANDARD
TZOFFSETFROM:-0400
TZOFFSETTO:-0500
TZNAME:EST
DTSTART:20251102T060000
END:STANDARD
BEGIN:DAYLIGHT
TZOFFSETFROM:-0500
TZOFFSETTO:-0400
TZNAME:EDT
DTSTART:20260308T070000
END:DAYLIGHT
BEGIN:STANDARD
TZOFFSETFROM:-0400
TZOFFSETTO:-0500
TZNAME:EST
DTSTART:20261101T060000
END:STANDARD
END:VTIMEZONE
BEGIN:VEVENT
DTSTART;TZID=America/Toronto:20251101T100000
DTEND;TZID=America/Toronto:20251101T120000
DTSTAMP:20260423T125131
CREATED:20251017T180922Z
LAST-MODIFIED:20251106T181649Z
UID:3277-1761991200-1761998400@canadianhandywoman.com
SUMMARY:DIY Like A Girl Team  – Picton
DESCRIPTION:DIY Like a Girl – Picton\nBack by popular demand!\nJoin Nancy Pike (Pike Inspection Services)\, Tammy Watson (Canadian Handywoman)\, and Shari Doherty (Stage One Real Estate Team) for another empowering DIY Like a Girl workshop — a free\, hands-on community event designed by women\, for women. \nThis fun\, approachable session is all about helping you feel confident with tools in your hands and empowered in your own space. Whether you’ve never used a drill\, or you’ve tackled a few projects already\, this event is for you. We’ll show you practical skills\, share time-saving tips\, and help you understand your home a little better — all in a supportive\, judgment-free environment. \nYou’ll leave with more than just knowledge. You’ll leave with confidence\, a sense of community\, and the pride that comes from learning something new. The goal is simple: \nUse the tools. Learn the skill. Know your value. Own your project.\nNo experience is needed — just bring your curiosity\, questions\, and a willingness to try something new. \nEvent Details:\n\nWhen: Saturday\, November 1\nTime: 10:30 AM – 12:30 PM\nWhere: Picton Public Library\, 208 Main Street\, Picton\nCost: Free\n\nCome connect with other women in your community\, learn from professionals who truly want to see you succeed\, and walk away feeling capable\, inspired\, and ready to take on your next project with confidence. \nDIY Like a Girl – Picton is more than a workshop — it’s a movement to help women gain practical skills\, independence\, and the power to say\, “I can do that myself.”\nClick Here To Register for free today — we can’t wait to see you there!
URL:https://canadianhandywoman.com/event/diy-like-a-girl-picton/
LOCATION:Picton Public Library\, 208 Main St\, Picton\, ON\, Canada
CATEGORIES:Handywoman Event,In-person Event
ATTACH;FMTTYPE=image/jpeg:https://canadianhandywoman.com/wp-content/uploads/2025/10/Picton-COVER.jpg
ORGANIZER;CN="Canadian Handywoman":MAILTO:info@canadianhandywoman.com
END:VEVENT
END:VCALENDAR