BEGIN:VCALENDAR
VERSION:2.0
PRODID:-//Canadian Handywoman - ECPv6.15.20//NONSGML v1.0//EN
CALSCALE:GREGORIAN
METHOD:PUBLISH
X-WR-CALNAME:Canadian Handywoman
X-ORIGINAL-URL:https://canadianhandywoman.com
X-WR-CALDESC:Events for Canadian Handywoman
REFRESH-INTERVAL;VALUE=DURATION:PT1H
X-Robots-Tag:noindex
X-PUBLISHED-TTL:PT1H
BEGIN:VTIMEZONE
TZID:America/Toronto
BEGIN:DAYLIGHT
TZOFFSETFROM:-0500
TZOFFSETTO:-0400
TZNAME:EDT
DTSTART:20250309T070000
END:DAYLIGHT
BEGIN:STANDARD
TZOFFSETFROM:-0400
TZOFFSETTO:-0500
TZNAME:EST
DTSTART:20251102T060000
END:STANDARD
BEGIN:DAYLIGHT
TZOFFSETFROM:-0500
TZOFFSETTO:-0400
TZNAME:EDT
DTSTART:20260308T070000
END:DAYLIGHT
BEGIN:STANDARD
TZOFFSETFROM:-0400
TZOFFSETTO:-0500
TZNAME:EST
DTSTART:20261101T060000
END:STANDARD
BEGIN:DAYLIGHT
TZOFFSETFROM:-0500
TZOFFSETTO:-0400
TZNAME:EDT
DTSTART:20270314T070000
END:DAYLIGHT
BEGIN:STANDARD
TZOFFSETFROM:-0400
TZOFFSETTO:-0500
TZNAME:EST
DTSTART:20271107T060000
END:STANDARD
END:VTIMEZONE
BEGIN:VEVENT
DTSTART;TZID=America/Toronto:20260505T183000
DTEND;TZID=America/Toronto:20260505T200000
DTSTAMP:20260421T141353
CREATED:20260416T191111Z
LAST-MODIFIED:20260416T193413Z
UID:3793-1778005800-1778011200@canadianhandywoman.com
SUMMARY:Patch & Paint Workshop May 5 2026
DESCRIPTION:Wall Rescue: Patch & Paint Essentials Workshop\nGot a scuff\, dent\, or hole in your wall that’s been bugging you? It’s easier to fix than you think — and I’ll show you how. \nJoin me\, Tammy from Canadian Handywoman\, for a hands-on workshop where you’ll learn to patch and paint like a pro. Designed by women\, for women\, this session covers everything from small drywall repairs to painting tips for crisp edges and smooth finishes. You’ll get the skills\, confidence\, and know-how to take care of those little fixes around your home without calling for help. \nWhat you’ll learn:\n\nHow to repair small holes and dents in drywall\nHow to sand\, prime\, and prep like a pro\nPainting techniques for smooth\, streak-free results\nThe best tools and products for the job — and how to actually use them\n\nThis isn’t a watch-and-learn kind of evening — you’ll practice each step yourself in a supportive\, no-pressure environment. No experience needed\, just curiosity and a willingness to learn. \nEvent Details\n\nDate: Tuesday\, May 5th 2026 • 6:30–8:00 PM\nLocation: Wallbridge Loyalist Road & the 401\, Belleville\nCost: $115 (HST included)\n\nIf you’re planning to update a room\, repair walls before painting\, or simply want to feel more capable with tools in hand\, this workshop is for you. \nThis Workshop Is For You If:\n\nYou’re a homeowner who’s tired of feeling unsure\nYou’re handling things on your own and want to feel more confident\nYou’ve been avoiding small fixes because they feel more complicated than they should\n\nThis Is NOT For:\n\nLicensed tradespeople\nAnyone looking for certification or formal training\nFull renovation or advanced-level work\n\nThis is about real-world skills and practical confidence in your own home. \nClick HERE to get your seat today and save your spot — your walls (and your confidence) will thank you!
URL:https://canadianhandywoman.com/event/patch-paint-workshop/
LOCATION:Wallbridge Loyalist & the 401\, Belleville\, Belleville\, ON
CATEGORIES:Handywoman Event,In-person Event
ATTACH;FMTTYPE=image/png:https://canadianhandywoman.com/wp-content/uploads/2026/04/Paint-and-Patch-Workshop.png
ORGANIZER;CN="Canadian Handywoman":MAILTO:info@canadianhandywoman.com
END:VEVENT
END:VCALENDAR