BEGIN:VCALENDAR
VERSION:2.0
PRODID:-//Canadian Handywoman - ECPv6.15.20//NONSGML v1.0//EN
CALSCALE:GREGORIAN
METHOD:PUBLISH
X-WR-CALNAME:Canadian Handywoman
X-ORIGINAL-URL:https://canadianhandywoman.com
X-WR-CALDESC:Events for Canadian Handywoman
REFRESH-INTERVAL;VALUE=DURATION:PT1H
X-Robots-Tag:noindex
X-PUBLISHED-TTL:PT1H
BEGIN:VTIMEZONE
TZID:America/Toronto
BEGIN:DAYLIGHT
TZOFFSETFROM:-0500
TZOFFSETTO:-0400
TZNAME:EDT
DTSTART:20220313T070000
END:DAYLIGHT
BEGIN:STANDARD
TZOFFSETFROM:-0400
TZOFFSETTO:-0500
TZNAME:EST
DTSTART:20221106T060000
END:STANDARD
BEGIN:DAYLIGHT
TZOFFSETFROM:-0500
TZOFFSETTO:-0400
TZNAME:EDT
DTSTART:20230312T070000
END:DAYLIGHT
BEGIN:STANDARD
TZOFFSETFROM:-0400
TZOFFSETTO:-0500
TZNAME:EST
DTSTART:20231105T060000
END:STANDARD
BEGIN:DAYLIGHT
TZOFFSETFROM:-0500
TZOFFSETTO:-0400
TZNAME:EDT
DTSTART:20240310T070000
END:DAYLIGHT
BEGIN:STANDARD
TZOFFSETFROM:-0400
TZOFFSETTO:-0500
TZNAME:EST
DTSTART:20241103T060000
END:STANDARD
END:VTIMEZONE
BEGIN:VEVENT
DTSTART;TZID=America/Toronto:20231026T130000
DTEND;TZID=America/Toronto:20231026T160000
DTSTAMP:20260421T224024
CREATED:20231006T095504Z
LAST-MODIFIED:20231006T125003Z
UID:2528-1698325200-1698336000@canadianhandywoman.com
SUMMARY:GUEST PANELIST OPPORTUNITY
DESCRIPTION:THIS EVENT IS SOLD OUT!!!! \nI am excited to be a panelist for this live WE-CAN event. We will be discussing the topic of “Moving from Surviving to Thriving as a Woman-Owned Business”. \n____________________________________ \nWE-CAN Thrive Event for Women Entrepreneurs \nThe past three years have seen women-owned busineses struggling to survive — but now\, we are intent on moving from surviving to THRIVING together!  \nDon’t miss out on this fun and engaging opportunity to gather together in person with other WE-CAN clients to engage in authentic connection-building\, collaboration and creative solution-finding. \nFirst\, we’ll hear from a panel of WE-CAN clients on the topic of “Moving from Surviving to Thriving as a Woman-Owned Business”. \nThe panel will include: \n• Richa Rehan\, Athletico Sports Physiotherapy  \n• Carol Ann Budd\, Woodland Wealth Inc. \n• Shamsa Hassan\, Afiya Beauty \n• Tammy Watson\, Canadian Handywoman \n• Moderator Kerry Ramsay\, WE-CAN Project Manager \nFollowing the panel\, we’ll enjoy a Movement Break courtesy of WE-CAN client Nomusa Mngoma of Dansani Dance Company in Kingston. Get ready to have some FUN! \nNext\, we’ll take part in small group break-out sessions on “How to Thrive”\, inspired by table leaders and conversation starters aimed at stimulating creative discussion. \nFinally\, we’ll take part in a hands-on creative project led by Cody McCallum of Cody Calligraphy. \nWe hope you’ll set aside some time to join us for this refreshing and well-deserved chance to THRIVE as you work towards launching\, growing or scaling your business. \nSpace is limited to 50 registrants so register today!  \n  \n“My mission in life is not to merely survive\, but to thrive with passion\, compassion\, humor and style.” ~ Maya Angelou \n  \nShould you require accessibility supports for this event\, please email kerry.ramsay@queensu.ca as soon as possible since advance notice is necessary to arrange for some accessibility services. \n  \nABOUT THE WE-CAN PROJECT: \nThe WE-CAN Project is led by Queen’s University with a mission to inspire and empower existing and aspiring women entrepreneurs by providing them with tools\, resources\, expert mentors\, networks and community building to expand existing businesses and to launch new ventures. \nPlease note: Queen’s University’s collection of personal information is authorized by its Royal Charter of 1841\, as amended. Personal information is collected for the purpose of admissions\, registration\, academic progress\, and administering University programs\, university-related student services and activities\, activities of student societies\, safety\, financial assistance and awards\, and advancement\, and will be used for those or consistent purposes. Personal information may be disclosed to and used by employees of the University who need the information in the performance of their duties.
URL:https://canadianhandywoman.com/event/guest-panelist-opportunity-we-can-thrive-event-for-women-entrepreneurs/
LOCATION:Seaway Coworking\, 310 Bagot Street ON\, Kingston\,\, ON\, K7K 3B4\, Canada
ATTACH;FMTTYPE=image/png:https://canadianhandywoman.com/wp-content/uploads/2023/10/Screenshot-2023-10-06-at-5.40.03 AM.png
END:VEVENT
END:VCALENDAR