BEGIN:VCALENDAR
VERSION:2.0
PRODID:-//Canadian Handywoman - ECPv6.15.20//NONSGML v1.0//EN
CALSCALE:GREGORIAN
METHOD:PUBLISH
X-WR-CALNAME:Canadian Handywoman
X-ORIGINAL-URL:https://canadianhandywoman.com
X-WR-CALDESC:Events for Canadian Handywoman
REFRESH-INTERVAL;VALUE=DURATION:PT1H
X-Robots-Tag:noindex
X-PUBLISHED-TTL:PT1H
BEGIN:VTIMEZONE
TZID:America/Toronto
BEGIN:DAYLIGHT
TZOFFSETFROM:-0500
TZOFFSETTO:-0400
TZNAME:EDT
DTSTART:20220313T070000
END:DAYLIGHT
BEGIN:STANDARD
TZOFFSETFROM:-0400
TZOFFSETTO:-0500
TZNAME:EST
DTSTART:20221106T060000
END:STANDARD
BEGIN:DAYLIGHT
TZOFFSETFROM:-0500
TZOFFSETTO:-0400
TZNAME:EDT
DTSTART:20230312T070000
END:DAYLIGHT
BEGIN:STANDARD
TZOFFSETFROM:-0400
TZOFFSETTO:-0500
TZNAME:EST
DTSTART:20231105T060000
END:STANDARD
BEGIN:DAYLIGHT
TZOFFSETFROM:-0500
TZOFFSETTO:-0400
TZNAME:EDT
DTSTART:20240310T070000
END:DAYLIGHT
BEGIN:STANDARD
TZOFFSETFROM:-0400
TZOFFSETTO:-0500
TZNAME:EST
DTSTART:20241103T060000
END:STANDARD
BEGIN:DAYLIGHT
TZOFFSETFROM:-0500
TZOFFSETTO:-0400
TZNAME:EDT
DTSTART:20250309T070000
END:DAYLIGHT
BEGIN:STANDARD
TZOFFSETFROM:-0400
TZOFFSETTO:-0500
TZNAME:EST
DTSTART:20251102T060000
END:STANDARD
END:VTIMEZONE
BEGIN:VEVENT
DTSTART;TZID=America/Toronto:20240124T100000
DTEND;TZID=America/Toronto:20240124T110000
DTSTAMP:20260421T210231
CREATED:20240106T165250Z
LAST-MODIFIED:20240106T165250Z
UID:2688-1706090400-1706094000@canadianhandywoman.com
SUMMARY:How to Replace A Faucet
DESCRIPTION:Learn the tricks of replacing a faucet during this live online interactive workshop on Wed Jan 24th 2024\, at 10:00 a.m. \nREGISTER HERE! \nAbout This Event\nLooking to improve your kitchen or bathroom? A quick and cost effect way can be to replace your faucet. Join us for our upcoming workshop on how to replace that faucet yourself! Don’t pay a plumber something you can do yourself. \nIn this workshop we’ll cover the tools you’ll need\, how to prep for the replacement\, the steps for actually doing it and what to do after it’s installed. \nLet me guide you through what tools needed\, tricks to make the job easier and supplies that you’ll want to make sure you have available. \nDon’t miss out on this opportunity to improve your skills and take your projects to the next level. Join Tammy for the faucet replacement workshop today! \nLearning Objectives\nBy the end of the workshop\, participants will \n-Have the knowledge and confidence to replace their own faucet. \n-What tools are needed. \n-How to find the ‘shut off’ valve for the water \n-Remove the old faucet \n-Prep to install the new faucet \n-Steps to install the new faucet \n-Steps to test the system \n-Feel amazing every time you use that faucet. You will know it’s there and working because of you! \nDetails:\nWhen: Wednesday\, January 24\, 2024 10:00 a.m. – 11:00 a.m. \nWhere : Live Online\, via Zoom. A link to the training will be provided. \nCost : Free to attend the live online presentation\, select ”Free Admission“ at the checkout. \nLearning Materials: An information PDF will be available to those who attend the live session \nRecording : The session will be recorded. If you would like a copy of the presentation\, please select “Premium Admission” at the checkout. \nReserve YOUR spot today – spaces are limited to 25 participants!!! \nAbout the workshop Host\nTammy Watson has always been a fixer of things. She owns and operates a successful handywoman and cottage care business called Canadian Handywoman. Tammy’s formidable years were spent learning how to survive around Toronto. She now works and lives in rural eastern Ontario\, Canada. Tammy has always been a storyteller and passionate about helping others. As a business award winner\, a contributing columnist\, and a motivational speaker – she strives to help women learn to be confident\, resourceful\, and independent. Tammy is keen on empowering woman to do things themselves. She will help you identify what tool you may need. How that tool works. And help you develop the confidence to use that tool. Tammy will answer you in a patient\, friendly\, and reserved manner. \nREGISTER HERE!
URL:https://canadianhandywoman.com/event/how-to-replace-a-faucet/
CATEGORIES:Online Events
ATTACH;FMTTYPE=image/png:https://canadianhandywoman.com/wp-content/uploads/2024/01/Eventbrite-How-to-replace-a-faucet-title-page.png
ORGANIZER;CN="Canadian Handywoman":MAILTO:info@canadianhandywoman.com
END:VEVENT
BEGIN:VEVENT
DTSTART;VALUE=DATE:20231122
DTEND;VALUE=DATE:20231210
DTSTAMP:20260421T210231
CREATED:20231119T231018Z
LAST-MODIFIED:20231119T231018Z
UID:2641-1700611200-1702166399@canadianhandywoman.com
SUMMARY:Women - Led Business Award Giveaway
DESCRIPTION:Special Celebration Giveaway\nHello\, my name is Tammy Watson and I own and operate Canadian Handywoman\, a Cottage Care service provider. As an award recipient I wanted to celebrate my achievement with a giveaway. I was awarded the 2023 Female – Led Business of the Year Award from the County of Frontenac. Help me celebrate this momentous achievement! I am partnering with local professional photographer\, artist\, and Gallery owner Amy Kay.  Featured in Canadian Geographic and the Audubon Society\, Amy’s photographs are masterful. Her beautiful work can be seen in The Tweet Boutique gallery. \nI will be giving away a 12″ x 18” HD Panel Metal Print of a stunning Pileated Woodpecker (Dryocopus pileatus) eating red winterberries\, near Mazinaw Lake\, Ontario to one lucky person. All you have to do is fill out this simple entry form. A metal print is a $205 value. Full terms and conditions of the contest can be found here.
URL:https://canadianhandywoman.com/event/women-led-business-award-giveaway/
CATEGORIES:Contests and Giveaways
ATTACH;FMTTYPE=image/png:https://canadianhandywoman.com/wp-content/uploads/2023/11/Physical-Science-Google-Form-Presentation-2.png
END:VEVENT
BEGIN:VEVENT
DTSTART;TZID=America/Toronto:20231101T100000
DTEND;TZID=America/Toronto:20231103T110000
DTSTAMP:20260421T210231
CREATED:20230925T153346Z
LAST-MODIFIED:20231003T222059Z
UID:2515-1698832800-1699009200@canadianhandywoman.com
SUMMARY:Learn to Choose the Right Wood and Lumber for your Next Project
DESCRIPTION:Don’t be intimidated at the hardware store – learn what wood and lumber you will need to complete your next project. \nHome repairs pop up all the time that need either a little or a lot of wood. Finding a DIY project you’d like to tackle that needs lumber. Being able to know what wood you need and where to find it is empowering. \nThere are a few questions you’ll need to ask yourself and once you know those questions\, the answers will fall right into place. I will patiently and expertly guide you to learn those questions. \nIn this live 60-minute event\, you will discover what those questions are\, you will see what the various woods look like\, how you can identify them and learn best practices on when to use certain wood. \nRESERVE YOUR SPOT NOW \nAttend this LIVE workshop for FREE. You may also choose to receive perpetual access to the recording of the workshop for only $20. Just choose the Premium Admission at checkout. \nThere will be time for limited questions and answers. \n——————————————————————————- \nLearning Objectives \nBy the end of the online course participants will: \n… know the difference between dimensional and milled lumber \n… understand actual measurements of lumber \n… be familiar with the most common lumber available \n… recognize what is and when to use pressure pressure treated lumber \n… be aware of the best lumber to use for different projects \n——————————————————————————- \nDetails \nWhen : Wednesday\, November 1st\, 2023\, 10:00am-11:00am (EST) \nWhere : Live Online\, via Zoom. A link to the training will be sent after you sign up\, as well as the day of the event. \nCost : Free to attend the live online presentation\, select ”Free Admission“ at the checkout. \nRecording : The session will be recorded. If you would like a copy of the presentation\, please select “Premium Admission” at the checkout. \nReserve YOUR spot today!!! \nBe sure to check back for the newest Events from Canadian Handywoman.
URL:https://canadianhandywoman.com/event/learn-to-choose-the-right-wood-and-lumber-for-your-next-project/
CATEGORIES:Online Events
ATTACH;FMTTYPE=image/png:https://canadianhandywoman.com/wp-content/uploads/2023/09/Wood-Wisdom-Workshop.png
ORGANIZER;CN="Canadian Handywoman":MAILTO:info@canadianhandywoman.com
END:VEVENT
BEGIN:VEVENT
DTSTART;TZID=America/Toronto:20231026T130000
DTEND;TZID=America/Toronto:20231026T160000
DTSTAMP:20260421T210231
CREATED:20231006T095504Z
LAST-MODIFIED:20231006T125003Z
UID:2528-1698325200-1698336000@canadianhandywoman.com
SUMMARY:GUEST PANELIST OPPORTUNITY
DESCRIPTION:THIS EVENT IS SOLD OUT!!!! \nI am excited to be a panelist for this live WE-CAN event. We will be discussing the topic of “Moving from Surviving to Thriving as a Woman-Owned Business”. \n____________________________________ \nWE-CAN Thrive Event for Women Entrepreneurs \nThe past three years have seen women-owned busineses struggling to survive — but now\, we are intent on moving from surviving to THRIVING together!  \nDon’t miss out on this fun and engaging opportunity to gather together in person with other WE-CAN clients to engage in authentic connection-building\, collaboration and creative solution-finding. \nFirst\, we’ll hear from a panel of WE-CAN clients on the topic of “Moving from Surviving to Thriving as a Woman-Owned Business”. \nThe panel will include: \n• Richa Rehan\, Athletico Sports Physiotherapy  \n• Carol Ann Budd\, Woodland Wealth Inc. \n• Shamsa Hassan\, Afiya Beauty \n• Tammy Watson\, Canadian Handywoman \n• Moderator Kerry Ramsay\, WE-CAN Project Manager \nFollowing the panel\, we’ll enjoy a Movement Break courtesy of WE-CAN client Nomusa Mngoma of Dansani Dance Company in Kingston. Get ready to have some FUN! \nNext\, we’ll take part in small group break-out sessions on “How to Thrive”\, inspired by table leaders and conversation starters aimed at stimulating creative discussion. \nFinally\, we’ll take part in a hands-on creative project led by Cody McCallum of Cody Calligraphy. \nWe hope you’ll set aside some time to join us for this refreshing and well-deserved chance to THRIVE as you work towards launching\, growing or scaling your business. \nSpace is limited to 50 registrants so register today!  \n  \n“My mission in life is not to merely survive\, but to thrive with passion\, compassion\, humor and style.” ~ Maya Angelou \n  \nShould you require accessibility supports for this event\, please email kerry.ramsay@queensu.ca as soon as possible since advance notice is necessary to arrange for some accessibility services. \n  \nABOUT THE WE-CAN PROJECT: \nThe WE-CAN Project is led by Queen’s University with a mission to inspire and empower existing and aspiring women entrepreneurs by providing them with tools\, resources\, expert mentors\, networks and community building to expand existing businesses and to launch new ventures. \nPlease note: Queen’s University’s collection of personal information is authorized by its Royal Charter of 1841\, as amended. Personal information is collected for the purpose of admissions\, registration\, academic progress\, and administering University programs\, university-related student services and activities\, activities of student societies\, safety\, financial assistance and awards\, and advancement\, and will be used for those or consistent purposes. Personal information may be disclosed to and used by employees of the University who need the information in the performance of their duties.
URL:https://canadianhandywoman.com/event/guest-panelist-opportunity-we-can-thrive-event-for-women-entrepreneurs/
LOCATION:Seaway Coworking\, 310 Bagot Street ON\, Kingston\,\, ON\, K7K 3B4\, Canada
ATTACH;FMTTYPE=image/png:https://canadianhandywoman.com/wp-content/uploads/2023/10/Screenshot-2023-10-06-at-5.40.03 AM.png
END:VEVENT
END:VCALENDAR